BEGIN:VCALENDAR
VERSION:2.0
PRODID:-//Ellener Hof Kultur-Verein e.V. - ECPv6.3.3.1//NONSGML v1.0//EN
CALSCALE:GREGORIAN
METHOD:PUBLISH
X-ORIGINAL-URL:http://kultur-aula.de
X-WR-CALDESC:Veranstaltungen für Ellener Hof Kultur-Verein e.V.
REFRESH-INTERVAL;VALUE=DURATION:PT1H
X-Robots-Tag:noindex
X-PUBLISHED-TTL:PT1H
BEGIN:VTIMEZONE
TZID:UTC
BEGIN:STANDARD
TZOFFSETFROM:+0000
TZOFFSETTO:+0000
TZNAME:UTC
DTSTART:20250101T000000
END:STANDARD
END:VTIMEZONE
BEGIN:VEVENT
DTSTART;TZID=UTC:20250214T190000
DTEND;TZID=UTC:20250214T190000
DTSTAMP:20260423T230910
CREATED:20241213T180947Z
LAST-MODIFIED:20250205T180026Z
UID:1404-1739559600-1739559600@kultur-aula.de
SUMMARY:ImproTheater Inflagranti – Liebe! Chaos! Valentinstag!
DESCRIPTION:Der Ellener Hof Kultur-Verein lädt ein zum Improtheater. \nLiebe liegt in der Luft! Pünktlich zum Valentinstag serviert das Improtheater Inflagranti Bremen eine Show voller Herzensbrecher\, Liebes-Chaoten und unvergesslicher erster Dates. Bei Liebe! Chaos! Valentinstag! dreht sich alles um die Tücken und Triumphe der Liebe. Es wird ein Abend voller Spaß\, mit Überraschungen und schmachtenden Dramen. Doch nichts ist geplant\, alles entsteht spontan\, mit dem Publikum als Katalysator und der Lizenz zum Chaos! \nEintritt 15 €\, Barzahlung. Vorverkauf im Quartiersraum (Di/Do/Fr 9-14 Uhr)\, Pawel-Adamowicz-Str. 2B oder im Gästehaus Maribondo\, Ilse-Kaisen-Str. 28\, 28327 Bremen. Reservierungen per Telefon 0421 67303595 oder 0177 7641082 oder per E-Mail dialog@kultur-aula.de (nach Bestätigungsmail)
URL:http://kultur-aula.de/programm/liebe-chaos-valentinstag/
LOCATION:Kultur-Aula\, Ilse-Kaisen-Straße 5\, Bremen\, 28327
ATTACH;FMTTYPE=image/jpeg:http://kultur-aula.de/wp-content/uploads/2024/12/Z62_3564.jpg
ORGANIZER;CN="Ellener Hof Kultur-Verein e.V.":MAILTO:dialog@kultur-aula.de
END:VEVENT
END:VCALENDAR