BEGIN:VCALENDAR
VERSION:2.0
PRODID:-//Ellener Hof Kultur-Verein e.V. - ECPv6.3.3.1//NONSGML v1.0//EN
CALSCALE:GREGORIAN
METHOD:PUBLISH
X-WR-CALNAME:Ellener Hof Kultur-Verein e.V.
X-ORIGINAL-URL:http://kultur-aula.de
X-WR-CALDESC:Veranstaltungen für Ellener Hof Kultur-Verein e.V.
REFRESH-INTERVAL;VALUE=DURATION:PT1H
X-Robots-Tag:noindex
X-PUBLISHED-TTL:PT1H
BEGIN:VTIMEZONE
TZID:UTC
BEGIN:STANDARD
TZOFFSETFROM:+0000
TZOFFSETTO:+0000
TZNAME:UTC
DTSTART:20250101T000000
END:STANDARD
END:VTIMEZONE
BEGIN:VEVENT
DTSTART;TZID=UTC:20250405T193000
DTEND;TZID=UTC:20250405T193000
DTSTAMP:20260423T200950
CREATED:20250206T110012Z
LAST-MODIFIED:20250307T104606Z
UID:1523-1743881400-1743881400@kultur-aula.de
SUMMARY:Helke Sander: Aufräumen
DESCRIPTION:Der Ellener Hof Kultur-Verein lädt ein zu einem Filmabend. \nDie Filmemacherin und Autorin Helke Sander\, heute über 80 Jahre alt\, ist eine Ikone der Frauenbewegung und des neuen deutschen Films. Manchmal brauchen historische Umwälzungen nur einen kleinen Impuls. Helke Sander hat vor vielen Jahren eine solche erdrutschartige Veränderung in Deutschland ausgelöst. Der preisgekrönte Dokumentarfilm „Helke Sander: Aufräumen“ verbindet mit eindrucksvollen Filmausschnitten aus Sanders Werk ihr künstlerisches Schaffen mit ihrem Leben. Die Regisseurin Claudia Richarz ist während der Filmvorführung anwesend. \nSolidarischer Eintritt 15-12 €\, Barzahlung. Zahlt\, was es euch wert ist! Vorverkauf im Quartiersraum (Di/Do/Fr 9-14 Uhr)\, Pawel-Adamowicz-Str. 2B\, oder im Gästehaus Maribondo\, Ilse-Kaisen-Str. 28\, 28327 Bremen. Reservierungen per Telefon 0421 67303959 oder 0177 7642082 oder per Mail an dialog@kultur-aula.de (nach Bestätigungsmail).
URL:http://kultur-aula.de/programm/helke-sander-aufraeumen/
LOCATION:Kultur-Aula\, Ilse-Kaisen-Straße 5\, Bremen\, 28327
ATTACH;FMTTYPE=image/jpeg:http://kultur-aula.de/wp-content/uploads/2025/02/Helke-Sander-Fotostudio_copyright_ClaudiaRicharzFilm.jpg
ORGANIZER;CN="Ellener Hof Kultur-Verein e.V.":MAILTO:dialog@kultur-aula.de
END:VEVENT
END:VCALENDAR