BEGIN:VCALENDAR
VERSION:2.0
PRODID:-//Ellener Hof Kultur-Verein e.V. - ECPv6.3.3.1//NONSGML v1.0//EN
CALSCALE:GREGORIAN
METHOD:PUBLISH
X-ORIGINAL-URL:http://kultur-aula.de
X-WR-CALDESC:Veranstaltungen für Ellener Hof Kultur-Verein e.V.
REFRESH-INTERVAL;VALUE=DURATION:PT1H
X-Robots-Tag:noindex
X-PUBLISHED-TTL:PT1H
BEGIN:VTIMEZONE
TZID:UTC
BEGIN:STANDARD
TZOFFSETFROM:+0000
TZOFFSETTO:+0000
TZNAME:UTC
DTSTART:20250101T000000
END:STANDARD
END:VTIMEZONE
BEGIN:VEVENT
DTSTART;TZID=UTC:20250413T150000
DTEND;TZID=UTC:20250413T170000
DTSTAMP:20260423T201128
CREATED:20250206T110449Z
LAST-MODIFIED:20250206T133803Z
UID:1529-1744556400-1744563600@kultur-aula.de
SUMMARY:KAFFEE + MUSIK mit dem Duo Concerto
DESCRIPTION:Der Ellener Hof Kultur-Verein lädt ein zu Kaffee und Musik. \nEs spielt das Duo Concerto. Anja Sukalskaja (Geige) und Natalia Selber (Klavier) stammen aus der Ukraine und aus Russland\, leben in Bremen und musizieren seit vielen Jahren zusammen. Beide Künstlerinnen sind professionelle Musikerinnen\, die mit Perfektion und Leidenschaft ihr Publikum überzeugen. Ihr Repertoire umfasst die Wiener Klassik\, Romantik\, über Melodien aus Operette und Musical bis zur modernen Musik. (Einlass 14.30 Uhr) \nEintritt 10 € (Kaffee\, Kuchen\, Musik)\, Barzahlung\, Anmeldung bis 11.4.2025. Vorverkauf im Quartiersraum (Di/Do/Fr 9-14 Uhr)\, Pawel-Adamowicz-Str. 2B\, oder im Gästehaus Maribondo\, Ilse-Kaisen-Straße 28\, 28327 Bremen. Reservierung per Telefon 0421 67303595 oder 0177 7641082 oder per E-Mail dialog@kultur-aula.de (nach Bestätigungsmail)
URL:http://kultur-aula.de/programm/kaffee-musik-mit-dem-duo-concerto/
LOCATION:Kultur-Aula\, Ilse-Kaisen-Straße 5\, Bremen\, 28327
ATTACH;FMTTYPE=image/jpeg:http://kultur-aula.de/wp-content/uploads/2025/02/Natasha-und-Anja.jpg
ORGANIZER;CN="Ellener Hof Kultur-Verein e.V.":MAILTO:dialog@kultur-aula.de
END:VEVENT
END:VCALENDAR