BEGIN:VCALENDAR
VERSION:2.0
PRODID:-//Ellener Hof Kultur-Verein e.V. - ECPv6.3.3.1//NONSGML v1.0//EN
CALSCALE:GREGORIAN
METHOD:PUBLISH
X-ORIGINAL-URL:http://kultur-aula.de
X-WR-CALDESC:Veranstaltungen für Ellener Hof Kultur-Verein e.V.
REFRESH-INTERVAL;VALUE=DURATION:PT1H
X-Robots-Tag:noindex
X-PUBLISHED-TTL:PT1H
BEGIN:VTIMEZONE
TZID:UTC
BEGIN:STANDARD
TZOFFSETFROM:+0000
TZOFFSETTO:+0000
TZNAME:UTC
DTSTART:20250101T000000
END:STANDARD
END:VTIMEZONE
BEGIN:VEVENT
DTSTART;TZID=UTC:20250427T160000
DTEND;TZID=UTC:20250427T173000
DTSTAMP:20260423T201128
CREATED:20250206T111209Z
LAST-MODIFIED:20250206T111209Z
UID:1532-1745769600-1745775000@kultur-aula.de
SUMMARY:Klaviermusik + Sternenhimmel
DESCRIPTION:Der Ellener Hof Kultur-Verein lädt ein zu einem Konzert der besonderen Art. \nDie Bremer Komponistin und vielseitige Pianistin Dagmar Krug spielt live zu faszinierenden Bildern des Bremer Sternenhimmels. Der Astrofotograf und Physiker Dr. Hanns Selig erlaubt uns tiefe Einblicke in das Universum und spannende Begegnungen mit kosmischen Objekten und Phänomenen. Seine unterhaltsamen Erläuterungen werden begleitet von poetischer Klaviermusik. Beides zusammen erzeugt eine einzigartige Atmosphäre\, einen audio-visuellen Ohren- und Augenschmaus!
URL:http://kultur-aula.de/programm/klaviermusik-sternenhimmel/
LOCATION:Kultur-Aula\, Ilse-Kaisen-Straße 5\, Bremen\, 28327
ATTACH;FMTTYPE=image/jpeg:http://kultur-aula.de/wp-content/uploads/2024/07/DagmarKrug.jpg
ORGANIZER;CN="Ellener Hof Kultur-Verein e.V.":MAILTO:dialog@kultur-aula.de
END:VEVENT
END:VCALENDAR