BEGIN:VCALENDAR
VERSION:2.0
PRODID:-//Ellener Hof Kultur-Verein e.V. - ECPv6.3.3.1//NONSGML v1.0//EN
CALSCALE:GREGORIAN
METHOD:PUBLISH
X-ORIGINAL-URL:http://kultur-aula.de
X-WR-CALDESC:Veranstaltungen für Ellener Hof Kultur-Verein e.V.
REFRESH-INTERVAL;VALUE=DURATION:PT1H
X-Robots-Tag:noindex
X-PUBLISHED-TTL:PT1H
BEGIN:VTIMEZONE
TZID:UTC
BEGIN:STANDARD
TZOFFSETFROM:+0000
TZOFFSETTO:+0000
TZNAME:UTC
DTSTART:20250101T000000
END:STANDARD
END:VTIMEZONE
BEGIN:VEVENT
DTSTART;TZID=UTC:20250430T200000
DTEND;TZID=UTC:20250430T220000
DTSTAMP:20260423T183839
CREATED:20250206T112940Z
LAST-MODIFIED:20250206T134202Z
UID:1535-1746043200-1746050400@kultur-aula.de
SUMMARY:Tanz in den Mai – Never Too Late
DESCRIPTION:Der Ellener Hof Kultur-Verein lädt ein zum Tanz in den Mai.  \n\nDieser Original Bremer Rentnerband geht ein legendärer Ruf voraus. Mit ihr erlebt man Spaß\, Tanzvergnügen und elf Musikerinnen und Musiker\, die alles geben. Never Too Late spielt Rock\, Soul und Latin von Santana\, Jethro Tull\, Steamhammer\, Deep Purple\, Joe Cocker und anderen bekannten Künstlern – aufgepeppt durch eigene Arrangements. So entsteht ein eindrucksvoller rockiger\, individueller Sound. Besonders beliebt ist die Formation beim Publikum ab 40 Jahren\, aber auch jüngere Menschen „verirren“ sich zunehmend zu den Abenden von Never Too Late. Hier wird bis zum Abwinken getanzt … (Einlass 19.30 Uhr). \nSolidarischer Eintritt 15 bis 12 €\, Barzahlung – Zahlt\, was es euch wert ist! Vorverkauf im Quartiersraum (Di/Do/Fr 9-14 Uhr)\, Pawel-Adamowicz-Str. 2B\, oder im Gästehaus Maribondo\, Ilse-Kaisen-Str. 28\, 28327 Bremen. Reservierungen per Telefon 0421 67303595 oder 0177 7641082 oder per E-Mail dialog@kultur-aula.de (nach Bestätigungsmail)
URL:http://kultur-aula.de/programm/tanz-in-den-mai-never-too-late-2/
LOCATION:Kultur-Aula\, Ilse-Kaisen-Straße 5\, Bremen\, 28327
ATTACH;FMTTYPE=image/jpeg:http://kultur-aula.de/wp-content/uploads/2025/02/NeverTooLate-beschnitten.jpeg
ORGANIZER;CN="Ellener Hof Kultur-Verein e.V.":MAILTO:dialog@kultur-aula.de
END:VEVENT
END:VCALENDAR