BEGIN:VCALENDAR
VERSION:2.0
PRODID:-//Ellener Hof Kultur-Verein e.V. - ECPv6.3.3.1//NONSGML v1.0//EN
CALSCALE:GREGORIAN
METHOD:PUBLISH
X-WR-CALNAME:Ellener Hof Kultur-Verein e.V.
X-ORIGINAL-URL:http://kultur-aula.de
X-WR-CALDESC:Veranstaltungen für Ellener Hof Kultur-Verein e.V.
REFRESH-INTERVAL;VALUE=DURATION:PT1H
X-Robots-Tag:noindex
X-PUBLISHED-TTL:PT1H
BEGIN:VTIMEZONE
TZID:UTC
BEGIN:STANDARD
TZOFFSETFROM:+0000
TZOFFSETTO:+0000
TZNAME:UTC
DTSTART:20250101T000000
END:STANDARD
END:VTIMEZONE
BEGIN:VEVENT
DTSTART;TZID=UTC:20250518T150000
DTEND;TZID=UTC:20250518T170000
DTSTAMP:20260423T182851
CREATED:20250206T113717Z
LAST-MODIFIED:20250206T133731Z
UID:1539-1747580400-1747587600@kultur-aula.de
SUMMARY:KAFFEE + MUSIK mit den Fleitjepiepen
DESCRIPTION:Der Ellener Hof lädt ein zu Kaffee und Musik. \nFleitjepiepen! Das sind sieben muntere Musikerinnen und Musiker aus Fischerhude mit Spielfreude\, Humor und vielen Instrumenten. Sie spielen traditionelle Melodien im neuen Gewand und eigene Kompositionen\, Musik zum Träumen und Rhythmen\, die Lust zum Tanzen wecken. (Einlass 14.30 Uhr) \nEintritt 10 € (Kaffee\, Kuchen\, Musik)\, Barzahlung. Anmeldung bis 16.05.2025. Vorverkauf im Quartiersraum (Di/Do/Fr 9-14 Uhr)\, Pawel-Adamowicz-Str. 2B\, oder im Gästehaus Maribondo\, Ilse-Kaisen-Straße 28\, 28327 Bremen. Reservierung per Telefon 0421 67303595 oder 0177 7641082 oder per E-Mail dialog@kultur-aula.de (nach Bestätigungsmail). \n 
URL:http://kultur-aula.de/programm/kaffee-musik-mit-den-fleitjepiepen/
LOCATION:Kultur-Aula\, Ilse-Kaisen-Straße 5\, Bremen\, 28327
ATTACH;FMTTYPE=image/jpeg:http://kultur-aula.de/wp-content/uploads/2025/02/Fleitje-Gruppenfoto-1200px.jpeg
ORGANIZER;CN="Ellener Hof Kultur-Verein e.V.":MAILTO:dialog@kultur-aula.de
END:VEVENT
END:VCALENDAR