BEGIN:VCALENDAR
VERSION:2.0
PRODID:-//Ellener Hof Kultur-Verein e.V. - ECPv6.3.3.1//NONSGML v1.0//EN
CALSCALE:GREGORIAN
METHOD:PUBLISH
X-WR-CALNAME:Ellener Hof Kultur-Verein e.V.
X-ORIGINAL-URL:http://kultur-aula.de
X-WR-CALDESC:Veranstaltungen für Ellener Hof Kultur-Verein e.V.
REFRESH-INTERVAL;VALUE=DURATION:PT1H
X-Robots-Tag:noindex
X-PUBLISHED-TTL:PT1H
BEGIN:VTIMEZONE
TZID:UTC
BEGIN:STANDARD
TZOFFSETFROM:+0000
TZOFFSETTO:+0000
TZNAME:UTC
DTSTART:20250101T000000
END:STANDARD
END:VTIMEZONE
BEGIN:VEVENT
DTSTART;TZID=UTC:20250627T190000
DTEND;TZID=UTC:20250627T190000
DTSTAMP:20260423T170103
CREATED:20250616T145949Z
LAST-MODIFIED:20250616T145949Z
UID:1739-1751050800-1751050800@kultur-aula.de
SUMMARY:Melodías provincianas
DESCRIPTION:Der Ellener Hof Kultur-Verein lädt ein zu einer Peña argentina. \nRocío Gjurkan (Klarinette) und Diego Cortez (Querflöte) aus der Provinz Córdoba sind das Duo Melodías provincianas und präsentieren auf ihrer ersten Europa-Tournee in Bremen die traditionelle Musik Argentiniens: schwungvolle Chacareras\, melancholische Vidalas\, nostalgische Zambas\, ausgelassene Rasguido doble und vieles mehr aus verschiedenen Regionen ihres Heimatlandes\, das Ganze in Form einer Peña argentina\, eines zwanglosen Treffens unter Nachbarn und Freunden mit stimmungsvoller Live-Musik\, mit erfrischenden und anregenden Getränken\, zum Kennenlernen und Plaudern\, offen für alle Generationen. Es darf getanzt werden!
URL:http://kultur-aula.de/programm/melodias-provincianas/
LOCATION:Terrasse der Kultur-Aula\, Ilse-Kaisen-Straße 5\, Bremen\, 28327
ATTACH;FMTTYPE=image/jpeg:http://kultur-aula.de/wp-content/uploads/2025/06/Melodias-provincianas.jpeg
ORGANIZER;CN="Ellener Hof Kultur-Verein e.V.":MAILTO:dialog@kultur-aula.de
END:VEVENT
END:VCALENDAR