BEGIN:VCALENDAR
VERSION:2.0
PRODID:-//Ellener Hof Kultur-Verein e.V. - ECPv6.3.3.1//NONSGML v1.0//EN
CALSCALE:GREGORIAN
METHOD:PUBLISH
X-ORIGINAL-URL:http://kultur-aula.de
X-WR-CALDESC:Veranstaltungen für Ellener Hof Kultur-Verein e.V.
REFRESH-INTERVAL;VALUE=DURATION:PT1H
X-Robots-Tag:noindex
X-PUBLISHED-TTL:PT1H
BEGIN:VTIMEZONE
TZID:UTC
BEGIN:STANDARD
TZOFFSETFROM:+0000
TZOFFSETTO:+0000
TZNAME:UTC
DTSTART:20250101T000000
END:STANDARD
END:VTIMEZONE
BEGIN:VEVENT
DTSTART;TZID=UTC:20250810T150000
DTEND;TZID=UTC:20250810T170000
DTSTAMP:20260423T140110
CREATED:20250518T080402Z
LAST-MODIFIED:20250629T162330Z
UID:1687-1754838000-1754845200@kultur-aula.de
SUMMARY:Familie Luchian aus Moldawien
DESCRIPTION:Der Ellener Hof Kultur-Verein lädt ein zu Kaffee/Tee\, Kuchen und Musik mit dem Familienensemble Luchian. \nDie Musikprofessoren Tanja und Romero Luchian aus Moldawien und ihre Söhne David und Jacov begeistern ihr Publikum mit beeindruckender Musikalität und perfekter Beherrschung der Instrumente. Auch in diesem Jahr bieten sie ein vielseitiges Programm aus klassischen Highlights verschiedener Epochen\, beliebten Opernmelodien\, Kaffeehausmusik mit Walzer\, Polka\, Klezmer bis zu Popmusik und Volksmusik\, auch aus ihrer moldawischen Heimat. \nEintritt 10 € (Kaffee/Tee\, Kuchen\, Musik). Einlass  ab 14.30 Uhr. Anmeldung erforderlich bis 8.8.25! Vorverkauf im Quartiersraum (Di/Do/Fr 9-14 Uhr)\, Pawel-Adamowicz-Str. 2B\, oder im Gästehaus Maribondo\, Ilse-Kaisen-Str. 28\, 28327 Bremen. Reservierung per Telefon 0421 67303595 oder 0177 7641082 oder per E-Mail dialog@kultur-aula.de.
URL:http://kultur-aula.de/programm/familie-luchian-aus-moldawien/
LOCATION:Kultur-Aula\, Ilse-Kaisen-Straße 5\, Bremen\, 28327
ATTACH;FMTTYPE=image/jpeg:http://kultur-aula.de/wp-content/uploads/2025/05/CRomeroLuchian.jpg
ORGANIZER;CN="Ellener Hof Kultur-Verein e.V.":MAILTO:dialog@kultur-aula.de
END:VEVENT
END:VCALENDAR