BEGIN:VCALENDAR
VERSION:2.0
PRODID:-//Ellener Hof Kultur-Verein e.V. - ECPv6.3.3.1//NONSGML v1.0//EN
CALSCALE:GREGORIAN
METHOD:PUBLISH
X-WR-CALNAME:Ellener Hof Kultur-Verein e.V.
X-ORIGINAL-URL:http://kultur-aula.de
X-WR-CALDESC:Veranstaltungen für Ellener Hof Kultur-Verein e.V.
REFRESH-INTERVAL;VALUE=DURATION:PT1H
X-Robots-Tag:noindex
X-PUBLISHED-TTL:PT1H
BEGIN:VTIMEZONE
TZID:UTC
BEGIN:STANDARD
TZOFFSETFROM:+0000
TZOFFSETTO:+0000
TZNAME:UTC
DTSTART:20250101T000000
END:STANDARD
END:VTIMEZONE
BEGIN:VEVENT
DTSTART;TZID=UTC:20250919T190000
DTEND;TZID=UTC:20250919T190000
DTSTAMP:20260423T122303
CREATED:20250826T122059Z
LAST-MODIFIED:20250826T122059Z
UID:1852-1758308400-1758308400@kultur-aula.de
SUMMARY:Henner und Kira Gresbrand
DESCRIPTION:Der Ellener Hof Kultur-Verein präsentiert Henner und Kira Gresbrand. \nVater und Tochter Gresbrand haben beide eine große Leidenschaft für Musik und schaffen gemeinsam eine ganz besondere Atmosphäre. Kiras vielseitige Stimme gibt jeder bekannten Melodie einen neuen Reiz\, während Henners Gitarre das rhythmische Fundament bildet und die Stimmung harmonisch untermalt. Sie interpretieren Cover-Songs aus Rock\, Pop\, Soul und Classic. \nEintritt frei – Hutkasse! Bei Regen findet das Konzert in der Kultur-Aula statt.
URL:http://kultur-aula.de/programm/henner-und-kira-gresbrand/
LOCATION:Terrasse der Kultur-Aula\, Ilse-Kaisen-Straße 5\, Bremen\, 28327
ATTACH;FMTTYPE=image/jpeg:http://kultur-aula.de/wp-content/uploads/2025/08/20250919HKGresbrand.jpeg
ORGANIZER;CN="Ellener Hof Kultur-Verein e.V.":MAILTO:dialog@kultur-aula.de
END:VEVENT
END:VCALENDAR