BEGIN:VCALENDAR
VERSION:2.0
PRODID:-//Ellener Hof Kultur-Verein e.V. - ECPv6.3.3.1//NONSGML v1.0//EN
CALSCALE:GREGORIAN
METHOD:PUBLISH
X-ORIGINAL-URL:http://kultur-aula.de
X-WR-CALDESC:Veranstaltungen für Ellener Hof Kultur-Verein e.V.
REFRESH-INTERVAL;VALUE=DURATION:PT1H
X-Robots-Tag:noindex
X-PUBLISHED-TTL:PT1H
BEGIN:VTIMEZONE
TZID:UTC
BEGIN:STANDARD
TZOFFSETFROM:+0000
TZOFFSETTO:+0000
TZNAME:UTC
DTSTART:20250101T000000
END:STANDARD
END:VTIMEZONE
BEGIN:VEVENT
DTSTART;TZID=UTC:20251116T150000
DTEND;TZID=UTC:20251116T170000
DTSTAMP:20260423T092922
CREATED:20250821T125740Z
LAST-MODIFIED:20260301T174029Z
UID:1811-1763305200-1763312400@kultur-aula.de
SUMMARY:Thomas Alex
DESCRIPTION:Der Ellener Hof Kultur-Verein lädt ein zu Kaffee/Tee\, Kuchen und Musik mit Thomas Alex. \nMit Gute-Laune-Musik vertreiben wir den grauen „Herbst-Blues“. Thomas Alex spielt auf dem Keyboard und singt Volks- und Stimmungslieder\, Evergreens und beliebte Schlager. Mitsingen und Tanzen erlaubt! \nEintritt 10 € (Kaffee/Tee\, Kuchen\, Musik)\, Anmeldung bis 14.11.25! Vorverkauf im Quartiersraum (Di/Do/Fr 9-14 Uhr)\, Pawel-Adamowicz-Str. 2 B\, oder im Gästehaus Maribondo\, Ilse-Kaisen-Str. 28\, 28327 Bremen. Reservierung per Telefon 0421 67303595 oder 0177 7641082 oder per Mail dialog@kultur-aula.de (nach Bestätigungsmail).
URL:http://kultur-aula.de/programm/thomas-alex/
LOCATION:Kultur-Aula\, Ilse-Kaisen-Straße 5\, Bremen\, 28327
ATTACH;FMTTYPE=image/jpeg:http://kultur-aula.de/wp-content/uploads/2025/11/ThomasAlex-C-scaled.jpg
ORGANIZER;CN="Ellener Hof Kultur-Verein e.V.":MAILTO:dialog@kultur-aula.de
END:VEVENT
END:VCALENDAR