BEGIN:VCALENDAR
VERSION:2.0
PRODID:-//Ellener Hof Kultur-Verein e.V. - ECPv6.3.3.1//NONSGML v1.0//EN
CALSCALE:GREGORIAN
METHOD:PUBLISH
X-ORIGINAL-URL:http://kultur-aula.de
X-WR-CALDESC:Veranstaltungen für Ellener Hof Kultur-Verein e.V.
REFRESH-INTERVAL;VALUE=DURATION:PT1H
X-Robots-Tag:noindex
X-PUBLISHED-TTL:PT1H
BEGIN:VTIMEZONE
TZID:UTC
BEGIN:STANDARD
TZOFFSETFROM:+0000
TZOFFSETTO:+0000
TZNAME:UTC
DTSTART:20250101T000000
END:STANDARD
END:VTIMEZONE
BEGIN:VEVENT
DTSTART;TZID=UTC:20250112T150000
DTEND;TZID=UTC:20250112T170000
DTSTAMP:20260423T230208
CREATED:20241202T164501Z
LAST-MODIFIED:20260301T174428Z
UID:1368-1736694000-1736701200@kultur-aula.de
SUMMARY:KAFFEE + MUSIK – Thomas Alex
DESCRIPTION:Der Ellener Hof Kultur-Verein lädt ein zu Kaffee + Musik. Wir starten mit Gute-Laune-Musik in das Neue Jahr. Thomas Alex spielt auf dem Keyboard und singt Volks- und Stimmungslieder\, Evergreens und beliebte Schlager. Mitsingen und Tanzen erwünscht! (Einlass 14:30 Uhr). \nEintritt 10 € (Kaffee\, Kuchen\, Musik)\, Barzahlung. Anmeldung bis 10.01.2025. Vorverkauf im Quartiersraum (Di/Do/Fr 9.00 – 14.00 Uhr)\, Pawel-Adamowicz-Str. 2B oder im Gästehaus Maribondo\, Ilse-Kaisen-Str. 28\, 28327 Bremen. Reservierung per Telefon 0421 67303595 oder 0177 7641082 oder per E-Mail dialog@kultur-aula.de (nach Bestätigungsmail)
URL:http://kultur-aula.de/programm/kaffee-musik-thomas-alex/
LOCATION:Kultur-Aula\, Ilse-Kaisen-Straße 5\, Bremen\, 28327
ATTACH;FMTTYPE=image/jpeg:http://kultur-aula.de/wp-content/uploads/2025/11/ThomasAlex-C-scaled.jpg
ORGANIZER;CN="Ellener Hof Kultur-Verein e.V.":MAILTO:dialog@kultur-aula.de
END:VEVENT
BEGIN:VEVENT
DTSTART;TZID=UTC:20250124T193000
DTEND;TZID=UTC:20250124T193000
DTSTAMP:20260423T230208
CREATED:20241202T165221Z
LAST-MODIFIED:20241202T174141Z
UID:1372-1737747000-1737747000@kultur-aula.de
SUMMARY:DISCO in der AULA
DESCRIPTION:Der Ellener Hof Kultur-Verein lädt ein zu einer Tanzparty mit Musik\, die aus der „Konserve“ kommt\, aber garantiert unter die Haut geht und das Stillsitzen unmöglich macht: Disco mit der Musik der späten 60er\, der 70er und der frühen 80er Jahre\, eine bunte Mischung aus Rock ’n‘ Roll und Rhythm ’n‘ Blues\, Soul und Funk\, Reggae und Latin. Als besonderes Highlight gibt es ein Wunschkonzert: Wir spielen deinen Lieblingssong und … ab geht’s auf die Tanzfläche! \nEintritt frei – um Spenden wird gebeten!
URL:http://kultur-aula.de/programm/disco-in-der-aula/
LOCATION:Kultur-Aula\, Ilse-Kaisen-Straße 5\, Bremen\, 28327
ATTACH;FMTTYPE=image/jpeg:http://kultur-aula.de/wp-content/uploads/2024/06/Kultur-Aula-Disko.jpg
ORGANIZER;CN="Ellener Hof Kultur-Verein e.V.":MAILTO:dialog@kultur-aula.de
END:VEVENT
END:VCALENDAR