BEGIN:VCALENDAR
VERSION:2.0
PRODID:-//Ellener Hof Kultur-Verein e.V. - ECPv6.3.3.1//NONSGML v1.0//EN
CALSCALE:GREGORIAN
METHOD:PUBLISH
X-ORIGINAL-URL:http://kultur-aula.de
X-WR-CALDESC:Veranstaltungen für Ellener Hof Kultur-Verein e.V.
REFRESH-INTERVAL;VALUE=DURATION:PT1H
X-Robots-Tag:noindex
X-PUBLISHED-TTL:PT1H
BEGIN:VTIMEZONE
TZID:UTC
BEGIN:STANDARD
TZOFFSETFROM:+0000
TZOFFSETTO:+0000
TZNAME:UTC
DTSTART:20250101T000000
END:STANDARD
END:VTIMEZONE
BEGIN:VEVENT
DTSTART;TZID=UTC:20250308T193000
DTEND;TZID=UTC:20250308T193000
DTSTAMP:20260423T201224
CREATED:20250101T173118Z
LAST-MODIFIED:20250206T114139Z
UID:1458-1741462200-1741462200@kultur-aula.de
SUMMARY:TRAUMWELTEN - Maskentheater Trottellumme
DESCRIPTION:Der Ellener Hof Kultur-Verein lädt ein zum Maskentheater. Das Bühnenstück Traumwelten des Maskentheaters Trottellumme führt durch eine Collage von Szenen und Bildern und erzählt am Internationalen Frauentag von Träumen\, Tag- und Wunschträumen\, unergründlichen Träumen und auch Alpträumen.\nUnter der Leitung von Angela Kolter spielen: Jutta Lücke\, Angela Kolter\, Verena Lang\, Karin Potthast\, Su Rauchenberger\, Tanja Reh und Karen Schröter. Musik: Thomas Kolter. Bühnenbild: Hervé Maillet\, Angela Kolter.
URL:http://kultur-aula.de/programm/traumwelten-maskentheater-trottellumme/
LOCATION:Kultur-Aula\, Ilse-Kaisen-Straße 5\, Bremen\, 28327
ATTACH;FMTTYPE=image/jpeg:http://kultur-aula.de/wp-content/uploads/2024/12/Traumtaenzer-72-1.jpeg
ORGANIZER;CN="Ellener Hof Kultur-Verein e.V.":MAILTO:dialog@kultur-aula.de
END:VEVENT
BEGIN:VEVENT
DTSTART;TZID=UTC:20250316T150000
DTEND;TZID=UTC:20250316T170000
DTSTAMP:20260423T201224
CREATED:20250101T174022Z
LAST-MODIFIED:20250101T174022Z
UID:1463-1742137200-1742144400@kultur-aula.de
SUMMARY:KAFFEE + MUSIK – Young Oldies
DESCRIPTION:Der Ellener Hof Kultur-Verein lädt ein zu Kaffee + Musik. Es spielen die Young Oldies\, die mit Tanzmusik und Evergreens aus den 50er\, 60er und 70erJahren regelmäßig ihr Publikum begeistern. Wir hören alte\, immer noch beliebte Schlager und Ohrwürmer\, dazu flotte Foxtrott- und wiegende Walzer-Rhythmen\, die zum Tanzen einladen. (Einlass 14.30 Uhr) \nEintritt 10 € (Kaffee\, Kuchen\, Musik)\, Barzahlung\, Anmeldung erforderlich bis 14.3.2025\, Vorverkauf im Quartiersraum (Di/Do/Fr 9-14 Uhr)\, Pawel-Adamowicz-Str. 2B\, oder im Gästehaus Maribondo\, Ilse-Kaisen-Straße 28\, 28327 Bremen. Reservierung per Telefon 0421 67303595 oder 0177 7641082 oder per E-Mail dialog@kultur-aula.de (nach Bestätigungsmail). \n 
URL:http://kultur-aula.de/programm/kaffee-musik-young-oldies-2/
LOCATION:Kultur-Aula\, Ilse-Kaisen-Straße 5\, Bremen\, 28327
ATTACH;FMTTYPE=image/jpeg:http://kultur-aula.de/wp-content/uploads/2024/06/Young-Oldies-bearb.jpeg
ORGANIZER;CN="Ellener Hof Kultur-Verein e.V.":MAILTO:dialog@kultur-aula.de
END:VEVENT
BEGIN:VEVENT
DTSTART;TZID=UTC:20250329T193000
DTEND;TZID=UTC:20250329T213000
DTSTAMP:20260423T201224
CREATED:20250101T174936Z
LAST-MODIFIED:20250206T134031Z
UID:1466-1743276600-1743283800@kultur-aula.de
SUMMARY:Jelly Baker ... The Blues Maker
DESCRIPTION:Der Ellener Hof Kultur-Verein lädt ein zu Blues + Rock ’n‘ Roll. Jelly Baker\, das ist handgemachte\, eigenständige Musik in der Tradition des Blues und des Rock’n Roll\, gepaart mit jahrzehntelangen Studio- und Live-Erfahrung in der deutschen Blues-Szene. Jelly Baker verspricht ein mitreißendes Konzerterlebnis\, das alten und jungen Blues-Fans in die Beine fährt: Traditionell\, eigenwillig und knackig! Micky Schmidt (Bass)\, Kai Gröne (Drums)\, Hanno Bonßdorf (Gitarre) und Werner Willms (Vocals\, Slide) geben den Songs mit viel Spielfreude emotionale Tiefe und atmosphärische Dichte. \nSolidarischer Eintritt 15 bis 12 €\, Barzahlung – Ihr zahlt\, was es euch wert ist! Vorverkauf im Quartiersraum (Di/Do/Fr 9-14 Uhr)\, Pawel-Adamowicz-Str. 2B oder im Gästehaus Maribondo\, Ilse-Kaisen-Str. 28\, 28327 Bremen. Reservierungen per Telefon 0421 67303595 oder 0177 7641082 oder per E-Mail dialog@kultur-aula.de (nach Bestätigungsmail).
URL:http://kultur-aula.de/programm/jelly-baker-the-blues-maker/
LOCATION:Kultur-Aula\, Ilse-Kaisen-Straße 5\, Bremen\, 28327
ATTACH;FMTTYPE=image/jpeg:http://kultur-aula.de/wp-content/uploads/2024/12/JB-Titel-2024-e1733417392924.jpg
ORGANIZER;CN="Ellener Hof Kultur-Verein e.V.":MAILTO:dialog@kultur-aula.de
END:VEVENT
END:VCALENDAR