BEGIN:VCALENDAR
VERSION:2.0
PRODID:-//Ellener Hof Kultur-Verein e.V. - ECPv6.3.3.1//NONSGML v1.0//EN
CALSCALE:GREGORIAN
METHOD:PUBLISH
X-WR-CALNAME:Ellener Hof Kultur-Verein e.V.
X-ORIGINAL-URL:http://kultur-aula.de
X-WR-CALDESC:Veranstaltungen für Ellener Hof Kultur-Verein e.V.
REFRESH-INTERVAL;VALUE=DURATION:PT1H
X-Robots-Tag:noindex
X-PUBLISHED-TTL:PT1H
BEGIN:VTIMEZONE
TZID:UTC
BEGIN:STANDARD
TZOFFSETFROM:+0000
TZOFFSETTO:+0000
TZNAME:UTC
DTSTART:20250101T000000
END:STANDARD
END:VTIMEZONE
BEGIN:VEVENT
DTSTART;TZID=UTC:20250907T150000
DTEND;TZID=UTC:20250907T170000
DTSTAMP:20260423T105325
CREATED:20250518T080519Z
LAST-MODIFIED:20250821T130705Z
UID:1694-1757257200-1757264400@kultur-aula.de
SUMMARY:Polizei Bremen – Multimedia-Vortrag SÄM
DESCRIPTION:Der Ellener Hof Kultur-Verein lädt ein zu Kaffee/Tee\, Kuchen und einem Multimedia-Vortrag der Kriminalpolizei Bremen zum Thema Straftaten zum Nachteil älterer Menschen (SÄM). \nSeniorinnen und Senioren werden immer wieder Opfer von Betrügern. Zum Beispiel erbeuten diese Geld oder Wertgegenstände\, indem sie vortäuschen\, die Opfer selbst oder nahe Angehörige seien in akuter Gefahr. Im Jahr 2024 wurden in Bremen rund 600 Fälle von Straftaten zum Nachteil älterer Menschen aktenkundig – weniger als im Vorjahr\, aber immer noch zu viel! Mit einem interessanten Multimedia-Vortrag informiert Hauptkommissarin Maren Pfitzner über aktuelle Betrugsmaschen und gibt praktische Tipps\, wie man sich schützen kann und im Fall eines Falles richtig reagiert. \nEintritt frei\, auf Wunsch mit Kaffee/Tee\, Kuchen 5\,00 €\, Anmeldung bis 5.9.25\, Vorverkauf der Verzehrbons im Quartiersraum (Di/Do/Fr 9-14 Uhr)\, Pawel-Adamowicz-Str. 2B\, oder im Gästehaus Maribondo\, Ilse-Kaisen-Str. 28\, 28327 Bremen. Reservierung per Telefon 0421 67303595. \n 
URL:http://kultur-aula.de/programm/polizei-bremen-multimedia-vortrag-saem/
LOCATION:Kultur-Aula\, Ilse-Kaisen-Straße 5\, Bremen\, 28327
ATTACH;FMTTYPE=image/jpeg:http://kultur-aula.de/wp-content/uploads/2025/05/SAeM1-5.jpg
ORGANIZER;CN="Ellener Hof Kultur-Verein e.V.":MAILTO:dialog@kultur-aula.de
END:VEVENT
BEGIN:VEVENT
DTSTART;TZID=UTC:20250914T110000
DTEND;TZID=UTC:20250914T130000
DTSTAMP:20260423T105325
CREATED:20250518T080533Z
LAST-MODIFIED:20250908T145216Z
UID:1697-1757847600-1757854800@kultur-aula.de
SUMMARY:Shanty-Frühschoppen
DESCRIPTION:Der Ellener Hof Kultur-Verein lädt ein zum Frühschoppen mit dem Shantychor Bremen-Mahndorf. \nDer über die Grenzen Bremens hinaus beliebte Chor unter der Leitung von Heinz-Dieter Ernst präsentiert einen bunten Reigen maritimer Lieder von Meer\, Wind und Wellen\, Liebesfreud’ und Liebesschmerz\, Sehnsucht nach der Ferne und Heimweh nach Zuhaus’ und vom harten Leben an Bord. Begleiten Sie uns in die weite Welt der Seefahrt! \nSolidarischer Eintritt 15 bis 10 €\, Barzahlung – Zahlt\, was es euch wert ist! Vorverkauf im Quartiersraum (Di/Do/Fr 9-14 Uhr)\, Pawel-Adamowicz-Str. 2B\, 28327 Bremen. Reservierungen per Telefon 0421 67303595 oder 0177 7641082 oder per E-Mail dialog@kultur-aula.de.
URL:http://kultur-aula.de/programm/shanty-fruehschoppen-2/
LOCATION:Kultur-Aula\, Ilse-Kaisen-Straße 5\, Bremen\, 28327
ATTACH;FMTTYPE=image/jpeg:http://kultur-aula.de/wp-content/uploads/2024/07/Shantychor-Mahndorf2.jpg
ORGANIZER;CN="Ellener Hof Kultur-Verein e.V.":MAILTO:dialog@kultur-aula.de
END:VEVENT
BEGIN:VEVENT
DTSTART;TZID=UTC:20250919T190000
DTEND;TZID=UTC:20250919T190000
DTSTAMP:20260423T105325
CREATED:20250826T122059Z
LAST-MODIFIED:20250826T122059Z
UID:1852-1758308400-1758308400@kultur-aula.de
SUMMARY:Henner und Kira Gresbrand
DESCRIPTION:Der Ellener Hof Kultur-Verein präsentiert Henner und Kira Gresbrand. \nVater und Tochter Gresbrand haben beide eine große Leidenschaft für Musik und schaffen gemeinsam eine ganz besondere Atmosphäre. Kiras vielseitige Stimme gibt jeder bekannten Melodie einen neuen Reiz\, während Henners Gitarre das rhythmische Fundament bildet und die Stimmung harmonisch untermalt. Sie interpretieren Cover-Songs aus Rock\, Pop\, Soul und Classic. \nEintritt frei – Hutkasse! Bei Regen findet das Konzert in der Kultur-Aula statt.
URL:http://kultur-aula.de/programm/henner-und-kira-gresbrand/
LOCATION:Terrasse der Kultur-Aula\, Ilse-Kaisen-Straße 5\, Bremen\, 28327
ATTACH;FMTTYPE=image/jpeg:http://kultur-aula.de/wp-content/uploads/2025/08/20250919HKGresbrand.jpeg
ORGANIZER;CN="Ellener Hof Kultur-Verein e.V.":MAILTO:dialog@kultur-aula.de
END:VEVENT
BEGIN:VEVENT
DTSTART;TZID=UTC:20250927T193000
DTEND;TZID=UTC:20250927T193000
DTSTAMP:20260423T105325
CREATED:20250518T080543Z
LAST-MODIFIED:20250821T130827Z
UID:1699-1759001400-1759001400@kultur-aula.de
SUMMARY:Herbstfest mit 4-0-9
DESCRIPTION:Der Ellener Hof Kultur-Verein lädt ein zum Herbstfest mit der Band 4-0-9. \nIhre Vorliebe für Blues\, Rock und Funk ist unüberhörbar und sie beeindrucken mit großer Spielfreude. Die Band 4-0-9\, das sind Gert Güdter (Schlagzeug)\, Frank Müller (Gitarre und Gesang) und Voller Liske (Bass und Gesang). Wir freuen uns auf eine abwechslungsreiche Setlist\, auf der sich neben Eigenkompositionen auch Interpretationen bekannter Titel finden. Mit spontanen Improvisationen und musikalischen Grenzüberschreitungen muss gerechnet werden. \nSolidarischer Eintritt 15 bis 10 €\, Barzahlung – Zahlt\, was es euch wert ist! Vorverkauf im Quartiersraum (Di/Do/Fr 9-14 Uhr)\, Pawel-Adamowicz-Str. 2B\, oder im Gästehaus Maribondo\, Ilse-Kaisen-Str. 28\, 28327 Bremen. Reservierungen per Telefon 0421 67 303595 oder 0177 7641082 oder per E-Mail dialog@kultur-aula.de. \n 
URL:http://kultur-aula.de/programm/herbstfest-mit-4-0-9/
LOCATION:Kultur-Aula\, Ilse-Kaisen-Straße 5\, Bremen\, 28327
ATTACH;FMTTYPE=image/jpeg:http://kultur-aula.de/wp-content/uploads/2025/05/4-0-9.jpg
ORGANIZER;CN="Ellener Hof Kultur-Verein e.V.":MAILTO:dialog@kultur-aula.de
END:VEVENT
END:VCALENDAR