BEGIN:VCALENDAR
VERSION:2.0
PRODID:-//Ellener Hof Kultur-Verein e.V. - ECPv6.3.3.1//NONSGML v1.0//EN
CALSCALE:GREGORIAN
METHOD:PUBLISH
X-ORIGINAL-URL:http://kultur-aula.de
X-WR-CALDESC:Veranstaltungen für Ellener Hof Kultur-Verein e.V.
REFRESH-INTERVAL;VALUE=DURATION:PT1H
X-Robots-Tag:noindex
X-PUBLISHED-TTL:PT1H
BEGIN:VTIMEZONE
TZID:UTC
BEGIN:STANDARD
TZOFFSETFROM:+0000
TZOFFSETTO:+0000
TZNAME:UTC
DTSTART:20250101T000000
END:STANDARD
END:VTIMEZONE
BEGIN:VEVENT
DTSTART;TZID=UTC:20251012T150000
DTEND;TZID=UTC:20251012T170000
DTSTAMP:20260423T094631
CREATED:20250821T125613Z
LAST-MODIFIED:20250821T130404Z
UID:1802-1760281200-1760288400@kultur-aula.de
SUMMARY:Stefanie Golisch – Das gibt's nur einmal ...
DESCRIPTION:Der Ellener Hof Kultur-Verein lädt ein zu Kaffee/Tee\, Kuchen und Musik mit Stefanie Golisch. \nMit ihrem Programm Das gibt’s nur einmal\, das kommt nicht wieder erinnert die Mezzosopranistin an ein Stück Musikgeschichte. Es erklingen Lieder und Schlager aus den Goldenen 1920er und 1930er Jahren. Ihre musikalischen Darbietungen verbindet Stefanie Golisch durch lebendig vorgetragene Geschichten und die Biografien der Komponisten. Sie bringt so bei aller Leichtigkeit und Schönheit der Musik auch die Tragik der Epoche zu Ausdruck\, in der viele Komponisten verfolgt und vertrieben wurden. \nEintritt 15 € (Kaffee/Tee\, Kuchen\, Musik)\, Anmeldung bis 10.10.25! Vorverkauf im Quartiersraum (Di/Do/Fr 9-14 Uhr)\, Pawel-Adamowicz-Str. 2 B\, oder im Gästehaus Maribondo\, Ilse-Kaisen-Str. 28\, 28327 Bremen. Reservierung per Telefon 0421 67303595 oder 0177 7641082 oder per E-Mail dialog@kultur-aula.de (nach Bestätigungsmail).
URL:http://kultur-aula.de/programm/stefanie-golisch-das-gibts-nur-einmal/
LOCATION:Kultur-Aula\, Ilse-Kaisen-Straße 5\, Bremen\, 28327
ATTACH;FMTTYPE=image/jpeg:http://kultur-aula.de/wp-content/uploads/2025/08/Stefanie-Golisch2023-scaled.jpeg
ORGANIZER;CN="Ellener Hof Kultur-Verein e.V.":MAILTO:dialog@kultur-aula.de
END:VEVENT
BEGIN:VEVENT
DTSTART;TZID=UTC:20251024T193000
DTEND;TZID=UTC:20251024T193000
DTSTAMP:20260423T094632
CREATED:20250821T125653Z
LAST-MODIFIED:20250821T130128Z
UID:1807-1761334200-1761334200@kultur-aula.de
SUMMARY:DISCO in der AULA
DESCRIPTION:Der Ellener Hof Kultur-Verein lädt ein zu einer Tanzparty mit Musik\, die zwar „aus der Konserve“ kommt\, aber garantiert unter die Haut geht und das Stillsitzen unmöglich macht: Disco-Feeling mit der Musik der späten 60er\, der 70er und der frühen 80er Jahre bis zu aktuellen Hits\, eine bunte Mischung aus Rock ’n‘ Roll und Rhythm ’n‘ Blues\, Soul und Funk\, Reggae\,  Latin und Pop. Als besonderes Highlight gibt es wieder das Wunschkonzert: wer will\, kann seinen oder ihren aktuellen Lieblingssong bestellen und nach ein paar Minuten dazu tanzen. \nEintritt frei – Hutkasse!
URL:http://kultur-aula.de/programm/disco-in-der-aula-2/
LOCATION:Kultur-Aula\, Ilse-Kaisen-Straße 5\, Bremen\, 28327
ATTACH;FMTTYPE=image/jpeg:http://kultur-aula.de/wp-content/uploads/2024/06/Kultur-Aula-Disko.jpg
ORGANIZER;CN="Ellener Hof Kultur-Verein e.V.":MAILTO:dialog@kultur-aula.de
END:VEVENT
END:VCALENDAR