BEGIN:VCALENDAR
VERSION:2.0
PRODID:-//Ellener Hof Kultur-Verein e.V. - ECPv6.3.3.1//NONSGML v1.0//EN
CALSCALE:GREGORIAN
METHOD:PUBLISH
X-ORIGINAL-URL:http://kultur-aula.de
X-WR-CALDESC:Veranstaltungen für Ellener Hof Kultur-Verein e.V.
REFRESH-INTERVAL;VALUE=DURATION:PT1H
X-Robots-Tag:noindex
X-PUBLISHED-TTL:PT1H
BEGIN:VTIMEZONE
TZID:UTC
BEGIN:STANDARD
TZOFFSETFROM:+0000
TZOFFSETTO:+0000
TZNAME:UTC
DTSTART:20250101T000000
END:STANDARD
END:VTIMEZONE
BEGIN:VEVENT
DTSTART;TZID=UTC:20251116T150000
DTEND;TZID=UTC:20251116T170000
DTSTAMP:20260421T101907
CREATED:20250821T125740Z
LAST-MODIFIED:20260301T174029Z
UID:1811-1763305200-1763312400@kultur-aula.de
SUMMARY:Thomas Alex
DESCRIPTION:Der Ellener Hof Kultur-Verein lädt ein zu Kaffee/Tee\, Kuchen und Musik mit Thomas Alex. \nMit Gute-Laune-Musik vertreiben wir den grauen „Herbst-Blues“. Thomas Alex spielt auf dem Keyboard und singt Volks- und Stimmungslieder\, Evergreens und beliebte Schlager. Mitsingen und Tanzen erlaubt! \nEintritt 10 € (Kaffee/Tee\, Kuchen\, Musik)\, Anmeldung bis 14.11.25! Vorverkauf im Quartiersraum (Di/Do/Fr 9-14 Uhr)\, Pawel-Adamowicz-Str. 2 B\, oder im Gästehaus Maribondo\, Ilse-Kaisen-Str. 28\, 28327 Bremen. Reservierung per Telefon 0421 67303595 oder 0177 7641082 oder per Mail dialog@kultur-aula.de (nach Bestätigungsmail).
URL:http://kultur-aula.de/programm/thomas-alex/
LOCATION:Kultur-Aula\, Ilse-Kaisen-Straße 5\, Bremen\, 28327
ATTACH;FMTTYPE=image/jpeg:http://kultur-aula.de/wp-content/uploads/2025/11/ThomasAlex-C-scaled.jpg
ORGANIZER;CN="Ellener Hof Kultur-Verein e.V.":MAILTO:dialog@kultur-aula.de
END:VEVENT
BEGIN:VEVENT
DTSTART;TZID=UTC:20251128T170000
DTEND;TZID=UTC:20251128T190000
DTSTAMP:20260421T101907
CREATED:20251024T142920Z
LAST-MODIFIED:20251024T143200Z
UID:1906-1764349200-1764356400@kultur-aula.de
SUMMARY:Lichterfest
DESCRIPTION:Der Ellener Hof Kultur-Verein lädt ein zum Lichterfest mit Laternenumzug und Adventsmarkt. \nFür kleine und große Gäste mit bunt-leuchtenden Laternen startet am Freitag\, den 28. November 2025\, um 17.00 Uhr ein Laternenumzug an der Kultur-Aula. Auf der Terrasse der Kultur-Aula (bei Regen drinnen) wartet ein Adventsmarkt auf Besucherinnen und Besucher. HobbybastlerInnen und Kunstschaffende aus dem Quartier bieten ihre kreativen und handwerklichen Erzeugnisse\, Selbstgemachtes\, Selbstgebackenes und weihnachtliche Produkte. Zur Stärkung gibt es zünftigen Glühwein und leckeren Apfelpunsch (alkoholfrei) sowie Bratwürstchen vom Grill (vegan oder aus Geflügelfleisch). Es erwartet Sie ein fröhliches Event für die ganze Nachbarschaft zur Einstimmung in die kalte Jahreszeit und zur Vorfreude auf Weihnachten.
URL:http://kultur-aula.de/programm/lichterfest/
LOCATION:Kultur-Aula\, Ilse-Kaisen-Straße 5\, Bremen\, 28327
ATTACH;FMTTYPE=image/jpeg:http://kultur-aula.de/wp-content/uploads/2025/10/Lichterfest.jpg
ORGANIZER;CN="Ellener Hof Kultur-Verein e.V.":MAILTO:dialog@kultur-aula.de
END:VEVENT
BEGIN:VEVENT
DTSTART;TZID=UTC:20251129T193000
DTEND;TZID=UTC:20251129T193000
DTSTAMP:20260421T101907
CREATED:20250821T125840Z
LAST-MODIFIED:20251124T232611Z
UID:1815-1764444600-1764444600@kultur-aula.de
SUMMARY:Backyard Devils
DESCRIPTION:Der Ellener Hof Kultur-Verein lädt ein zu einem Konzert der Backyard Devils. \nAndré Heuer\, Yaw P. und Debbie McCain bringen Musiktraditionen des Blues\, Ragtime und der Old Time Music auf die Bühne. Sie präsentieren historische amerikanische Musik mit beispielloser Energie\, Spielfreude und Virtuosität. Sie begleiten ihren Gesang mit den hierfür typischen Instrumenten wie National Tricone Resonator-Gitarre\, 5-String-Banjo\, Mandola und diversen Percussion-Instrumenten wie Djembe\, Cajon und dem legendären Fender Precision E-Bass. \nSolidarischer Eintritt 15 bis 10 €\, Barzahlung – Zahlt\, was es euch wert ist! Vorverkauf im Quartiersraum (Di/Do 9-14 Uhr)\, Pawel-Adamowicz-Str. 2B\, oder im Gästehaus Maribondo\, Ilse-Kaisen-Str. 28\, 28327 Bremen. Reservierungen per Telefon 0421 67303595 oder 0177 7641082 oder per E-Mail dialog@kultur-aula.de (nach Bestätigungsmail)
URL:http://kultur-aula.de/programm/backyard-devils/
LOCATION:Kultur-Aula\, Ilse-Kaisen-Straße 5\, Bremen\, 28327
ATTACH;FMTTYPE=image/jpeg:http://kultur-aula.de/wp-content/uploads/2025/08/Pressefoto-Backyard-Devils.jpg
ORGANIZER;CN="Ellener Hof Kultur-Verein e.V.":MAILTO:dialog@kultur-aula.de
END:VEVENT
END:VCALENDAR